BEGIN:VCALENDAR
VERSION:2.0
PRODID:-//wp-events-plugin.com//7.2.3.1//EN
TZID:Europe/Paris
X-WR-TIMEZONE:Europe/Paris
BEGIN:VEVENT
UID:114@kingtao.org
DTSTART;TZID=Europe/Paris:20250315T200000
DTEND;TZID=Europe/Paris:20250315T200000
DTSTAMP:20250223T200904Z
URL:https://www.kingtao.org/concerts/cafe-alcazar-bourg-st-andeol/
SUMMARY:Café Alcazar - Bourg St Andéol (07)
DESCRIPTION:
ATTACH;FMTTYPE=image/jpeg:https://www.kingtao.org/wp-content/uploads/2022/
 10/la-seve-logo.jpg
CATEGORIES:La Sève
END:VEVENT
BEGIN:VTIMEZONE
TZID:Europe/Paris
X-LIC-LOCATION:Europe/Paris
BEGIN:STANDARD
DTSTART:20241027T020000
TZOFFSETFROM:+0200
TZOFFSETTO:+0100
TZNAME:CET
END:STANDARD
END:VTIMEZONE
END:VCALENDAR